BEGIN:VCALENDAR
VERSION:2.0
PRODID:-//ChamberMaster//Event Calendar 2.0//EN
METHOD:PUBLISH
X-PUBLISHED-TTL:P3D
REFRESH-INTERVAL:P3D
CALSCALE:GREGORIAN
BEGIN:VEVENT
DTSTART:20260525T170000Z
DTEND:20260525T180000Z
X-MICROSOFT-CDO-ALLDAYEVENT:FALSE
SUMMARY:Memorial Day Service
DESCRIPTION:Dana Point Veterans of Foreign Wars Post #9934 and the City of Dana Point will hold their annual Memorial Day Services at Pines Park. \n\n\n\n\n\nFor more information\, call (949) 248-3500
X-ALT-DESC;FMTTYPE=text/html:<br />\n<span style="color:#000000\;"><span style="font-family:verdana\;"><span style="font-size:14px\;">Dana Point Veterans of Foreign Wars Post #9934 and the City of Dana Point will hold their annual Memorial Day Services at Pines Park.&nbsp\;<br />\n<br />\n<br />\nFor more information\, call (949) 248-3500</span></span></span>
LOCATION:Pines Park 34941 Camino Capistrano Capistrano Beach\, CA 92624
UID:e.2189.17539
SEQUENCE:3
DTSTAMP:20260419T150606Z
URL:http://danapoint.chambermaster.com/events/details/memorial-day-service-17539
END:VEVENT

END:VCALENDAR
