BEGIN:VCALENDAR
VERSION:2.0
PRODID:-//ChamberMaster//Event Calendar 2.0//EN
METHOD:PUBLISH
X-PUBLISHED-TTL:P3D
REFRESH-INTERVAL:P3D
CALSCALE:GREGORIAN
BEGIN:VEVENT
DTSTART:20141106T010000Z
DTEND:20141106T020000Z
X-MICROSOFT-CDO-ALLDAYEVENT:FALSE
SUMMARY:Member Orientation
DESCRIPTION:Join us for a New Member Orientation on the first Wednesday of every other month\, from 5:00-6:00pm at our Chamber office.\n\n\n\nWe encourage new members\, new employees and current members looking for a "refresher" course to attend this event. Attendees will receive your New Member Packet and plaque\, plus you'll get a detailed presentation of your Chamber member benefits.\n\n\n\nThis orientation is your opportunity to meet Chamber staff\, Board members\, Chamber Ambassadors and fellow new members\, while learning about all the exciting opportunities your Chamber membership offers you!\n\n\n\nTo RSVP\, please email Vickie at Vic@DanaPointChamber.com
X-ALT-DESC;FMTTYPE=text/html:Join us for a New Member Orientation on the first Wednesday of every other month\, from 5:00-6:00pm at our Chamber office.<br />\n<br />\nWe encourage new members\, new employees and current members looking for a &quot\;refresher&quot\; course to attend this event. Attendees will receive your New Member Packet and plaque\, plus you&#39\;ll get a detailed presentation of your Chamber member benefits.<br />\n<br />\nThis orientation is your opportunity to meet Chamber staff\, Board members\, Chamber Ambassadors and fellow new members\, while learning about all the exciting opportunities your Chamber membership offers you!<br />\n<br />\nTo RSVP\, please email Vickie at Vic@DanaPointChamber.com
LOCATION:Dana Point Chamber of Commerce Conference Room 34163 Pacific Coast Highway\, Suite 100 Dana Point\, CA 92629 Please note that parking is located in the back of the building and can be accessed via San Juan Ave.
UID:e.2189.1459
SEQUENCE:3
DTSTAMP:20260425T212319Z
URL:http://danapoint.chambermaster.com/events/details/member-orientation-11-05-2014-1459
END:VEVENT

END:VCALENDAR
