BEGIN:VCALENDAR
VERSION:2.0
PRODID:-//ChamberMaster//Event Calendar 2.0//EN
METHOD:PUBLISH
X-PUBLISHED-TTL:P3D
REFRESH-INTERVAL:P3D
CALSCALE:GREGORIAN
BEGIN:VEVENT
DTSTART;VALUE=DATE:20150216
DTEND;VALUE=DATE:20150217
TRANSP:TRANSPARENT
X-MICROSOFT-CDO-ALLDAYEVENT:TRUE
SUMMARY:DP Library Closed
DESCRIPTION:The Dana Point Library will be closed in honor of President's Day
X-ALT-DESC;FMTTYPE=text/html:The Dana Point Library will be closed in honor of President&#39\;s Day
LOCATION:Normal business hours will resume on 2/17/15.
UID:e.2189.2064
SEQUENCE:3
DTSTAMP:20260424T142921Z
URL:http://danapoint.chambermaster.com/events/details/dp-library-closed-02-16-2015-2064
END:VEVENT

END:VCALENDAR
