BEGIN:VCALENDAR
VERSION:2.0
PRODID:-//ChamberMaster//Event Calendar 2.0//EN
METHOD:PUBLISH
X-PUBLISHED-TTL:P3D
REFRESH-INTERVAL:P3D
CALSCALE:GREGORIAN
BEGIN:VEVENT
DTSTART:20150610T010000Z
DTEND:20150610T040000Z
X-MICROSOFT-CDO-ALLDAYEVENT:FALSE
SUMMARY:DE-BRIEF: Middle East Deployment
DESCRIPTION:FREE to the public! Save the date! 5th Marines Commanding Officer Jason Q Bohm speaks at the Ocean Institute in Dana Point on June 9th Reception at 6:00 p.m. Talk begins at 7:00 pm Colonel Jason Q Bohm is a highly decorated officer who commanded the Marines and sailors of SPMAGTF-CR-CC that served as an expeditionary\, crisis-response force during their 7 month deployment in the Middle East. Tasked with supporting operations and security in Marine Corps Forces Central Command and U.S. Central Command\, Col Bohm will discuss the "new normal" for military operations in the fight against ISIS. This talk is not to be missed. Tell your friends. No Reservations Required but space is limited! Information call (949) 373-5375 Ocean Institute Auditorium- 24200 Dana Point Harbor Drive Dana Point Donations graciously accepted via the Dana Point 5th Marine Regiment Support Group\, a 501  (3) Non-Profit whose mission is to support our Wounded\, Families of the Fallen\, Marines\, Spouses and Children of the Fifth Marine Regiment.
X-ALT-DESC;FMTTYPE=text/html:FREE to the public! Save the date! 5th Marines Commanding Officer Jason Q Bohm speaks at the Ocean Institute in Dana Point on June 9th Reception at 6:00 p.m. Talk begins at 7:00 pm Colonel Jason Q Bohm is a highly decorated officer who commanded the Marines and sailors of SPMAGTF-CR-CC that served as an expeditionary\, crisis-response force during their 7 month deployment in the Middle East. Tasked with supporting operations and security in Marine Corps Forces Central Command and U.S. Central Command\, Col Bohm will discuss the &quot\;new normal&quot\; for military operations in the fight against ISIS. This talk is not to be missed. Tell your friends. No Reservations Required but space is limited! Information call (949) 373-5375 Ocean Institute Auditorium- 24200 Dana Point Harbor Drive Dana Point Donations graciously accepted via the Dana Point 5th Marine Regiment Support Group\, a 501&copy\; (3) Non-Profit whose mission is to support our Wounded\, Families of the Fallen\, Marines\, Spouses and Children of the Fifth Marine Regiment.
LOCATION:Ocean Institute Auditorium- 24200 Dana Point Harbor Drive Dana Point
UID:e.2189.2654
SEQUENCE:3
DTSTAMP:20260424T233754Z
URL:http://danapoint.chambermaster.com/events/details/de-brief-middle-east-deployment-06-09-2015-2654
END:VEVENT

END:VCALENDAR
