BEGIN:VCALENDAR
VERSION:2.0
PRODID:-//ChamberMaster//Event Calendar 2.0//EN
METHOD:PUBLISH
X-PUBLISHED-TTL:P3D
REFRESH-INTERVAL:P3D
CALSCALE:GREGORIAN
BEGIN:VEVENT
DTSTART:20150531T023000Z
DTEND:20150531T050000Z
X-MICROSOFT-CDO-ALLDAYEVENT:FALSE
SUMMARY:Dana Point Symphony
DESCRIPTION:France\n\nDean Anderson\, conductor\n\nYang Bartolotti\, vioiln\n\nRavel: Bolero\n\nRavel: Tzigane\n\nDebussy: La Mer
X-ALT-DESC;FMTTYPE=text/html:<strong style="border: 0px\; font-family: 'Droid Sans'\, Arial\, sans-serif\; font-size: 15px\; margin: 0px\; outline: 0px\; padding: 0px\; vertical-align: baseline\; color: rgb(64\, 64\, 64)\; line-height: 24px\; background-color: rgb(255\, 255\, 255)\;">F<em style="border: 0px\; font-family: inherit\; font-weight: inherit\; margin: 0px\; outline: 0px\; padding: 0px\; vertical-align: baseline\;">rance</em></strong><br style="color: rgb(64\, 64\, 64)\; font-family: 'Droid Sans'\, Arial\, sans-serif\; font-size: 15px\; line-height: 24px\; background-color: rgb(255\, 255\, 255)\;" />\n<strong style="border: 0px\; font-family: 'Droid Sans'\, Arial\, sans-serif\; font-size: 15px\; margin: 0px\; outline: 0px\; padding: 0px\; vertical-align: baseline\; color: rgb(64\, 64\, 64)\; line-height: 24px\; background-color: rgb(255\, 255\, 255)\;">Dean Anderson\, conductor</strong><br style="color: rgb(64\, 64\, 64)\; font-family: 'Droid Sans'\, Arial\, sans-serif\; font-size: 15px\; line-height: 24px\; background-color: rgb(255\, 255\, 255)\;" />\n<strong style="border: 0px\; font-family: 'Droid Sans'\, Arial\, sans-serif\; font-size: 15px\; margin: 0px\; outline: 0px\; padding: 0px\; vertical-align: baseline\; color: rgb(64\, 64\, 64)\; line-height: 24px\; background-color: rgb(255\, 255\, 255)\;">Yang Bartolotti\, vioiln</strong><br style="color: rgb(64\, 64\, 64)\; font-family: 'Droid Sans'\, Arial\, sans-serif\; font-size: 15px\; line-height: 24px\; background-color: rgb(255\, 255\, 255)\;" />\n<span style="color: rgb(64\, 64\, 64)\; font-family: 'Droid Sans'\, Arial\, sans-serif\; font-size: 15px\; line-height: 24px\; background-color: rgb(255\, 255\, 255)\;">Ravel: Bolero</span><br style="color: rgb(64\, 64\, 64)\; font-family: 'Droid Sans'\, Arial\, sans-serif\; font-size: 15px\; line-height: 24px\; background-color: rgb(255\, 255\, 255)\;" />\n<span style="color: rgb(64\, 64\, 64)\; font-family: 'Droid Sans'\, Arial\, sans-serif\; font-size: 15px\; line-height: 24px\; background-color: rgb(255\, 255\, 255)\;">Ravel: Tzigane</span><br style="color: rgb(64\, 64\, 64)\; font-family: 'Droid Sans'\, Arial\, sans-serif\; font-size: 15px\; line-height: 24px\; background-color: rgb(255\, 255\, 255)\;" />\n<span style="color: rgb(64\, 64\, 64)\; font-family: 'Droid Sans'\, Arial\, sans-serif\; font-size: 15px\; line-height: 24px\; background-color: rgb(255\, 255\, 255)\;">Debussy: La Mer</span>
LOCATION:St. Edward's Church 33926 Calle La Primavera Dana Point\, CA 92629
UID:e.2189.2598
SEQUENCE:3
DTSTAMP:20260423T192313Z
URL:http://danapoint.chambermaster.com/events/details/dana-point-symphony-05-30-2015-2598
END:VEVENT

END:VCALENDAR
