BEGIN:VCALENDAR
VERSION:2.0
PRODID:-//ChamberMaster//Event Calendar 2.0//EN
METHOD:PUBLISH
X-PUBLISHED-TTL:P3D
REFRESH-INTERVAL:P3D
CALSCALE:GREGORIAN
BEGIN:VEVENT
DTSTART:20160422T003000Z
DTEND:20160422T023000Z
X-MICROSOFT-CDO-ALLDAYEVENT:FALSE
SUMMARY:3rd Thursdays Mixer
DESCRIPTION:A low-key\, high-impact mixer for members and non-members is hosted at a different Dana Point Chamber member venue each month. Join us at 5:30 pm for drinks (2 drink tickets with admission)\, appetizers\, and the opportunity to network with citizens and businesses in our strong Dana Point community.\n\n\n\nWork the room to promote yourself\, generate new business leads\, and build relationships with other Dana Point professionals.\n\n\n\nPurchase raffle tickets at the event to be entered for wonderful prizes donated by our Chamber members.\n\n\n\nHelp us promote this worthwhile event by inviting a local business owner and bring friends! Click the Register Now button above to claim your spot for this month!\n\n\n\nTo become a host of a Third Thursday Mixer\, or to donate a raffle prize\, please contact Krystal Neitzke
X-ALT-DESC;FMTTYPE=text/html:<span style="line-height: 20.8px\;">A low-key\, high-impact mixer for members and non-members is hosted at a different Dana Point Chamber member venue each month. Join us at 5:30 pm for drinks (2 drink tickets with admission)\, appetizers\, and the opportunity to network with citizens and businesses in our strong Dana Point community.</span><br style="line-height: 20.8px\;" />\n<br style="line-height: 20.8px\;" />\n<span style="line-height: 20.8px\;">Work the room to promote yourself\, generate new business leads\, and build relationship</span><span style="line-height: 20.8px\;">s with other Dana Point professionals.</span><br style="line-height: 20.8px\;" />\n<br style="line-height: 20.8px\;" />\n<span style="line-height: 20.8px\;">Purchase raffle tickets at the event to be entered for wonderful prizes donated by our Chamber members.</span><br style="line-height: 20.8px\;" />\n<br style="line-height: 20.8px\;" />\n<span style="line-height: 20.8px\;">Help us promote this worthwhile event by inviting a local business owner&mdash\;and bring friends! Click the Register Now button above to claim your spot for this month!</span><br style="line-height: 20.8px\;" />\n<br style="line-height: 20.8px\;" />\n<strong style="line-height: 20.8px\;">To become a host of a Third Thursday Mixer\, or to donate a raffle prize\, please contact&nbsp\;<a href="mailto:krystal@danapointchamber.com?subject=3rd%20Thursday%20Mixer%20Information">Krystal&nbsp\;Neitzke</a></strong>
LOCATION:Dana Point Woman's Club "Club House" 24642 San Juan Avenue Dana Point\, CA 92629
UID:e.2189.4690
SEQUENCE:3
DTSTAMP:20260420T072808Z
URL:http://danapoint.chambermaster.com/events/details/3rd-thursdays-mixer-04-21-2016-4690
END:VEVENT

END:VCALENDAR
